BEGIN:VCALENDAR
VERSION:2.0
PRODID:-//SKR - Swiss Karatedo Renmei Yudanshakai//NONSGML kigkonsult.se iC
 alcreator 2.30.10//
CALSCALE:GREGORIAN
METHOD:PUBLISH
UID:af1a39c2-d963-45dc-a35e-abd7398d70d2
X-WR-CALNAME:iCagenda
X-WR-CALDESC:Event Management Extension for Joomla!
X-WR-RELCALID:3E26604A-50F4-4449-8B3E-E4F4932D05B5
X-WR-TIMEZONE:Europe/Zurich
BEGIN:VTIMEZONE
TZID:Europe/Zurich
BEGIN:STANDARD
TZNAME:CET
DTSTART:20191027T030000
TZOFFSETFROM:+0200
TZOFFSETTO:+0100
RDATE:20201025T030000
END:STANDARD
BEGIN:DAYLIGHT
TZNAME:CEST
DTSTART:20190331T020000
TZOFFSETFROM:+0100
TZOFFSETTO:+0200
RDATE:20200329T020000
RDATE:20210328T020000
END:DAYLIGHT
END:VTIMEZONE
BEGIN:VEVENT
UID:07716af2-5d6f-46d7-aa0b-983c3e3892d7
DTSTAMP:20260422T125610Z
CATEGORIES:Ausbildung
CLASS:PUBLIC
DESCRIPTION;ALTREP="CID:<FFFF__=0ABBE548DFE235B58f9e8a93d@coffeebean.com>":
 Thema\n\nIppon Shobu Grundlagen nach ESKA Reglement\nSchwerpunkte SKR Kara
 te\nKata Training mit Fokus auf ESKA und JKA Karate\n\nDer letzte Teil fin
 det mit SKR Kader Sportler statt.
DTSTART:20200215T084500Z
DTEND:20200215T150000Z
GEO:00;0
LOCATION:Reiden
ORGANIZER;CN=:schiedsrichter@jka-karate.ch
SEQUENCE:1
SUMMARY:Technischer Workshop
TRANSP:OPAQUE
URL:https://www.jka-karate.ch/cms/index.php/component/icagenda/1-technische
 r-workshop
END:VEVENT
END:VCALENDAR
