BEGIN:VCALENDAR
VERSION:2.0
PRODID:-//SKR - Swiss Karatedo Renmei Yudanshakai//NONSGML kigkonsult.se iC
 alcreator 2.30.10//
CALSCALE:GREGORIAN
METHOD:PUBLISH
UID:3da8b4c9-46e4-4791-a314-5d31721ced54
X-WR-CALNAME:iCagenda
X-WR-CALDESC:Event Management Extension for Joomla!
X-WR-RELCALID:3E26604A-50F4-4449-8B3E-E4F4932D05B5
X-WR-TIMEZONE:Europe/Zurich
BEGIN:VTIMEZONE
TZID:Europe/Zurich
BEGIN:STANDARD
TZNAME:CET
DTSTART:20221030T030000
TZOFFSETFROM:+0200
TZOFFSETTO:+0100
RDATE:20231029T030000
RDATE:20241027T030000
END:STANDARD
BEGIN:DAYLIGHT
TZNAME:CEST
DTSTART:20230326T020000
TZOFFSETFROM:+0100
TZOFFSETTO:+0200
RDATE:20240331T020000
RDATE:20250330T020000
END:DAYLIGHT
END:VTIMEZONE
BEGIN:VEVENT
UID:d965cb00-52e6-426a-abdb-348a7364a55f
DTSTAMP:20260422T125840Z
CATEGORIES:Verschiedenes
CLASS:PUBLIC
DESCRIPTION;ALTREP="CID:<FFFF__=0ABBE548DFE235B58f9e8a93d@coffeebean.com>":
 Anmeldeschlusse: 8. September 2023Das Helferfest ist ausschliesslich den H
 elfer der JKA und ESKA Meisterschaften vorbehalten.  Programm:\n\nApéro ab
  18.00 Uhr\nNachtessen ab 19.00 Uhr\n\n
DTSTART:20230930T160000Z
DTEND:20230930T213000Z
GEO:00;0
LOCATION:Klingnau
ORGANIZER;CN=:tommaso.mini@jka-karate.ch
SEQUENCE:1
SUMMARY:Helferfest JKA/ESKA
TRANSP:OPAQUE
URL:https://www.jka-karate.ch/cms/index.php/component/icagenda/104-helferfe
 st-jka-eska
END:VEVENT
END:VCALENDAR
