BEGIN:VCALENDAR
VERSION:2.0
PRODID:-//SKR - Swiss Karatedo Renmei Yudanshakai//NONSGML kigkonsult.se iC
 alcreator 2.30.10//
CALSCALE:GREGORIAN
METHOD:PUBLISH
UID:2b9132a6-3cb8-44de-81af-dd852b84125e
X-WR-CALNAME:iCagenda
X-WR-CALDESC:Event Management Extension for Joomla!
X-WR-RELCALID:3E26604A-50F4-4449-8B3E-E4F4932D05B5
X-WR-TIMEZONE:Europe/Zurich
BEGIN:VTIMEZONE
TZID:Europe/Zurich
BEGIN:STANDARD
TZNAME:CET
DTSTART:20221030T030000
TZOFFSETFROM:+0200
TZOFFSETTO:+0100
RDATE:20231029T030000
RDATE:20241027T030000
END:STANDARD
BEGIN:DAYLIGHT
TZNAME:CEST
DTSTART:20230326T020000
TZOFFSETFROM:+0100
TZOFFSETTO:+0200
RDATE:20240331T020000
END:DAYLIGHT
END:VTIMEZONE
BEGIN:VEVENT
UID:ce9fc3c3-9096-444a-ac54-50c45ceb1196
DTSTAMP:20260422T130511Z
CATEGORIES:Turnier
CLASS:PUBLIC
DESCRIPTION;ALTREP="CID:<FFFF__=0ABBE548DFE235B58f9e8a93d@coffeebean.com>":
 Zuschauer sind beim Training (ab 10.00 Uhr) und Wettkampf (ab 13.30 Uhr) h
 erzlich willkommen!
DTSTART:20230902T080000Z
DTEND:20230902T150000Z
GEO:00;0
LOCATION:Bern
ORGANIZER;CN=:beni.isenegger@jka-karate.ch
SEQUENCE:1
SUMMARY:Länderkampf Tschechische Republik - Italien - Schweiz
TRANSP:OPAQUE
URL:https://www.jka-karate.ch/cms/index.php/component/icagenda/106-laenderk
 ampf-tschechische-republik-italien-schweiz
END:VEVENT
END:VCALENDAR
