BEGIN:VCALENDAR
VERSION:2.0
PRODID:-//SKR - Swiss Karatedo Renmei Yudanshakai//NONSGML kigkonsult.se iC
 alcreator 2.30.10//
CALSCALE:GREGORIAN
METHOD:PUBLISH
UID:841377b9-b84a-45d0-8437-024e04f2f5ce
X-WR-CALNAME:iCagenda
X-WR-CALDESC:Event Management Extension for Joomla!
X-WR-RELCALID:3E26604A-50F4-4449-8B3E-E4F4932D05B5
X-WR-TIMEZONE:Europe/Zurich
BEGIN:VTIMEZONE
TZID:Europe/Zurich
BEGIN:STANDARD
TZNAME:CET
DTSTART:20221030T030000
TZOFFSETFROM:+0200
TZOFFSETTO:+0100
RDATE:20231029T030000
RDATE:20241027T030000
END:STANDARD
BEGIN:DAYLIGHT
TZNAME:CEST
DTSTART:20230326T020000
TZOFFSETFROM:+0100
TZOFFSETTO:+0200
RDATE:20240331T020000
RDATE:20250330T020000
END:DAYLIGHT
END:VTIMEZONE
BEGIN:VEVENT
UID:f02a4d04-caec-421c-8474-94f7d706f0a0
DTSTAMP:20260422T125657Z
CATEGORIES:Ausbildung
CLASS:PUBLIC
DESCRIPTION;ALTREP="CID:<FFFF__=0ABBE548DFE235B58f9e8a93d@coffeebean.com>":
 Für Dojo-Trainer ab 2. Kyu
DTSTART:20231028T080000Z
DTEND:20231028T150000Z
GEO:00;0
LOCATION:Bern
ORGANIZER;CN=:stephan.laeuchli@jka-karate.ch
SEQUENCE:1
SUMMARY:Trainerausbildung: Modul 6
TRANSP:OPAQUE
URL:https://www.jka-karate.ch/cms/index.php/component/icagenda/109-trainera
 usbildung-modul-6
END:VEVENT
END:VCALENDAR
