BEGIN:VCALENDAR
VERSION:2.0
PRODID:-//SKR - Swiss Karatedo Renmei Yudanshakai//NONSGML kigkonsult.se iC
 alcreator 2.30.10//
CALSCALE:GREGORIAN
METHOD:PUBLISH
UID:9e0d216d-35a9-41db-a950-35efbbcf24c7
X-WR-CALNAME:iCagenda
X-WR-CALDESC:Event Management Extension for Joomla!
X-WR-RELCALID:3E26604A-50F4-4449-8B3E-E4F4932D05B5
X-WR-TIMEZONE:Europe/Zurich
BEGIN:VTIMEZONE
TZID:Europe/Zurich
BEGIN:STANDARD
TZNAME:CET
DTSTART:20231029T030000
TZOFFSETFROM:+0200
TZOFFSETTO:+0100
RDATE:20241027T030000
END:STANDARD
BEGIN:DAYLIGHT
TZNAME:CEST
DTSTART:20230326T020000
TZOFFSETFROM:+0100
TZOFFSETTO:+0200
RDATE:20240331T020000
RDATE:20250330T020000
END:DAYLIGHT
END:VTIMEZONE
BEGIN:VEVENT
UID:645eef38-d855-45bd-8735-fbdd27b001ba
DTSTAMP:20260422T110041Z
CATEGORIES:Training
CLASS:PUBLIC
DESCRIPTION;ALTREP="CID:<FFFF__=0ABBE548DFE235B58f9e8a93d@coffeebean.com>":
 Kosten pro Training: CHF 10.00 (Kinder)\, CHF 20.00 (In der Halle zu bezah
 len: Bar\, Twint\, Karten)
DTSTART:20231104T130000Z
DTEND:20231104T150000Z
GEO:00;0
LOCATION:Lenzburg
ORGANIZER;CN=:tommaso.mini@jka-karate.ch
SEQUENCE:1
SUMMARY:Zentraltraining inkl. Kinder
TRANSP:OPAQUE
URL:https://www.jka-karate.ch/cms/index.php/component/icagenda/110-zentralt
 raining-inkl-kinder
END:VEVENT
END:VCALENDAR
