BEGIN:VCALENDAR
VERSION:2.0
PRODID:-//SKR - Swiss Karatedo Renmei Yudanshakai//NONSGML kigkonsult.se iC
 alcreator 2.30.10//
CALSCALE:GREGORIAN
METHOD:PUBLISH
UID:1eb58e72-5fb9-495d-bb06-b5fa3031007c
X-WR-CALNAME:iCagenda
X-WR-CALDESC:Event Management Extension for Joomla!
X-WR-RELCALID:3E26604A-50F4-4449-8B3E-E4F4932D05B5
X-WR-TIMEZONE:Europe/Zurich
BEGIN:VTIMEZONE
TZID:Europe/Zurich
BEGIN:STANDARD
TZNAME:CET
DTSTART:20201025T030000
TZOFFSETFROM:+0200
TZOFFSETTO:+0100
RDATE:20211031T030000
END:STANDARD
BEGIN:DAYLIGHT
TZNAME:CEST
DTSTART:20200329T020000
TZOFFSETFROM:+0100
TZOFFSETTO:+0200
RDATE:20210328T020000
RDATE:20220327T020000
END:DAYLIGHT
END:VTIMEZONE
BEGIN:VEVENT
UID:986b1d5a-a8c4-4a06-84c6-d95edef62162
DTSTAMP:20260421T021036Z
CATEGORIES:Training
CLASS:PUBLIC
DESCRIPTION;ALTREP="CID:<FFFF__=0ABBE548DFE235B58f9e8a93d@coffeebean.com>":
 Wegen den herrschenden Massnahmen\, findet das Landestraining am Sa. Onlin
 e (siehe separate Veranstaltungen) statt. Sämtliche Prüfungen werden am So
 . in Lenzburg durchgeführt.Bitte beachtet das neue SKR Schutzkonzept. Weil
  keine aktive Lüftung möglich ist\, gilt im Landestraining folgendes:\n\nI
 m Gebäude\, Halle und während der Prüfung gilt Maskenpflicht\nZuschauer (D
 ojoleiter\, Trainer\, Familie\, Freunde) haben wegen der 50er Grenze keine
 n Zutritt\nPrüfungsprogramm ohne Kumite\, aber mit Maske→ Die Prüfer berüc
 ksichtigen die daraus entstehende Einschränkung bei der Leistungsfähigkeit
 \nJeder angemeldete Prüfling bekommt persönlich per Mail einen Zeitplan zu
 gestellt\nDie Prüfungsteilnehmer haben sich 1 Stunde vor Prüfungsbeginn be
 im Eingang einzufinden (Anmeldung\, Aufwärmen)\n\n Zeitplan&nbsp\;Kyu-Prüf
 ungen\n\n\n\nZeit\nHalle 1\nHalle 2\nHalle 3\nHalle 4\n\n\n\n\n09.00-10.00
 \nGruppe 1\nGruppe 2\nGruppe 3\nVorbereitung Gruppe 4-6\n\n\n10.15-11.15\n
 Gruppe 4\nGruppe 5\nGruppe 6\nVorbereitung Gruppe 7\n\n\n11.30-12.30\nGrup
 pe 7\nVorbereitung Gruppe 8\nVorbereitung Gruppe 9\n&nbsp\;\n\n\n\nZeitpla
 n&nbsp\;Dan-Prüfungen\n\n\n\nZeit&nbsp\;\nHalle 1\nHalle 2\nHalle 3\n\n\n
 \n\n13.00-14.00\nGruppe 8&nbsp\;\nGruppe 9\nVorbereitung Gruppe 10\n\n\n14
 .15-15.15\nGruppe 10\nVorbereitung Gruppe 11\n&nbsp\;\n\n\n15.30-16.30\nGr
 uppe 11\n&nbsp\;\n&nbsp\;\n\n\n
DTSTART:20201205T090000Z
DTEND:20201206T170000Z
GEO:00;0
LOCATION:Lenzburg
ORGANIZER;CN=:tommaso.mini@jka-karate.ch
SEQUENCE:1
SUMMARY:Landestraining (nur Prüfungen)
TRANSP:OPAQUE
URL:https://www.jka-karate.ch/cms/index.php/component/icagenda/13-landestra
 ining
END:VEVENT
END:VCALENDAR
