BEGIN:VCALENDAR
VERSION:2.0
PRODID:-//SKR - Swiss Karatedo Renmei Yudanshakai//NONSGML kigkonsult.se iC
 alcreator 2.30.10//
CALSCALE:GREGORIAN
METHOD:PUBLISH
UID:6eef1e8a-b828-4123-9fba-229f7b13074c
X-WR-CALNAME:iCagenda
X-WR-CALDESC:Event Management Extension for Joomla!
X-WR-RELCALID:3E26604A-50F4-4449-8B3E-E4F4932D05B5
X-WR-TIMEZONE:Europe/Zurich
BEGIN:VTIMEZONE
TZID:Europe/Zurich
BEGIN:STANDARD
TZNAME:CET
DTSTART:20231029T030000
TZOFFSETFROM:+0200
TZOFFSETTO:+0100
RDATE:20241027T030000
RDATE:20251026T030000
END:STANDARD
BEGIN:DAYLIGHT
TZNAME:CEST
DTSTART:20240331T020000
TZOFFSETFROM:+0100
TZOFFSETTO:+0200
RDATE:20250330T020000
END:DAYLIGHT
END:VTIMEZONE
BEGIN:VEVENT
UID:12557bae-8141-404a-8ce5-8883dc011eb2
DTSTAMP:20260422T093842Z
CATEGORIES:Ausbildung
CLASS:PUBLIC
DESCRIPTION:
DTSTART:20240824T080000Z
DTEND:20240824T134500Z
GEO:00;0
LOCATION:Lenzburg
ORGANIZER;CN=:tommaso.mini@jka-karate.ch
SEQUENCE:1
SUMMARY:Karate Basics und Vertiefungs Workshop
TRANSP:OPAQUE
URL:https://www.jka-karate.ch/cms/index.php/component/icagenda/135-karate-b
 asics-und-vertiefungs-workshop-2024-2
END:VEVENT
END:VCALENDAR
