BEGIN:VCALENDAR
VERSION:2.0
PRODID:-//SKR - Swiss Karatedo Renmei Yudanshakai//NONSGML kigkonsult.se iC
 alcreator 2.30.10//
CALSCALE:GREGORIAN
METHOD:PUBLISH
UID:e32e4cd6-ee54-47e8-b8d4-b364e573f918
X-WR-CALNAME:iCagenda
X-WR-CALDESC:Event Management Extension for Joomla!
X-WR-RELCALID:3E26604A-50F4-4449-8B3E-E4F4932D05B5
X-WR-TIMEZONE:Europe/Zurich
BEGIN:VTIMEZONE
TZID:Europe/Zurich
BEGIN:STANDARD
TZNAME:CET
DTSTART:20241027T030000
TZOFFSETFROM:+0200
TZOFFSETTO:+0100
RDATE:20251026T030000
END:STANDARD
BEGIN:DAYLIGHT
TZNAME:CEST
DTSTART:20240331T020000
TZOFFSETFROM:+0100
TZOFFSETTO:+0200
RDATE:20250330T020000
RDATE:20260329T020000
END:DAYLIGHT
END:VTIMEZONE
BEGIN:VEVENT
UID:b2dad298-a87b-49c8-b857-a3fddd73c070
DTSTAMP:20260422T092827Z
CATEGORIES:Training
CLASS:PUBLIC
DESCRIPTION;ALTREP="CID:<FFFF__=0ABBE548DFE235B58f9e8a93d@coffeebean.com>":
 Kosten pro Training (In der Halle zu bezahlen: Bar):- Ab 17 Jahren: CHF 20
 .00- Bis 16 Jahre: CHF 15.00
DTSTART:20241103T093000Z
DTEND:20241103T113000Z
GEO:00;0
LOCATION:Bern
ORGANIZER;CN=:beni.isenegger@jka-karate.ch
SEQUENCE:1
SUMMARY:Zentraltraining
TRANSP:OPAQUE
URL:https://www.jka-karate.ch/cms/index.php/component/icagenda/141-zentralt
 raining-20
END:VEVENT
END:VCALENDAR
