BEGIN:VCALENDAR
VERSION:2.0
PRODID:-//SKR - Swiss Karatedo Renmei Yudanshakai//NONSGML kigkonsult.se iC
 alcreator 2.30.10//
CALSCALE:GREGORIAN
METHOD:PUBLISH
UID:29a07df5-a761-49cb-aab7-f1062ae770e2
X-WR-CALNAME:iCagenda
X-WR-CALDESC:Event Management Extension for Joomla!
X-WR-RELCALID:3E26604A-50F4-4449-8B3E-E4F4932D05B5
X-WR-TIMEZONE:Europe/Zurich
BEGIN:VTIMEZONE
TZID:Europe/Zurich
BEGIN:STANDARD
TZNAME:CET
DTSTART:20241027T030000
TZOFFSETFROM:+0200
TZOFFSETTO:+0100
RDATE:20251026T030000
RDATE:20261025T030000
END:STANDARD
BEGIN:DAYLIGHT
TZNAME:CEST
DTSTART:20250330T020000
TZOFFSETFROM:+0100
TZOFFSETTO:+0200
RDATE:20260329T020000
RDATE:20270328T020000
END:DAYLIGHT
END:VTIMEZONE
BEGIN:VEVENT
UID:5bb1045a-2093-4ddd-bf9a-46a24a8b68e7
DTSTAMP:20260422T110317Z
CATEGORIES:Ausbildung
CLASS:PUBLIC
DESCRIPTION;ALTREP="CID:<FFFF__=0ABBE548DFE235B58f9e8a93d@coffeebean.com>":
 Für Dojo-Trainer ab 2. Kyu
DTSTART:20251025T080000Z
DTEND:20251025T150000Z
GEO:00;0
LOCATION:Bern
ORGANIZER;CN=:andrea.kennel@jka-karate.ch
SEQUENCE:1
SUMMARY:Trainerausbildung: Modul 6
TRANSP:OPAQUE
URL:https://www.jka-karate.ch/cms/index.php/component/icagenda/169-trainera
 usbildung-modul-6-2025
END:VEVENT
END:VCALENDAR
