BEGIN:VCALENDAR
VERSION:2.0
PRODID:-//SKR - Swiss Karatedo Renmei Yudanshakai//NONSGML kigkonsult.se iC
 alcreator 2.30.10//
CALSCALE:GREGORIAN
METHOD:PUBLISH
UID:26f77daf-abde-43b3-98b4-a44078c8655f
X-WR-CALNAME:iCagenda
X-WR-CALDESC:Event Management Extension for Joomla!
X-WR-RELCALID:3E26604A-50F4-4449-8B3E-E4F4932D05B5
X-WR-TIMEZONE:Europe/Zurich
BEGIN:VTIMEZONE
TZID:Europe/Zurich
BEGIN:STANDARD
TZNAME:CET
DTSTART:20201025T030000
TZOFFSETFROM:+0200
TZOFFSETTO:+0100
RDATE:20211031T030000
END:STANDARD
BEGIN:DAYLIGHT
TZNAME:CEST
DTSTART:20200329T020000
TZOFFSETFROM:+0100
TZOFFSETTO:+0200
RDATE:20210328T020000
RDATE:20220327T020000
END:DAYLIGHT
END:VTIMEZONE
BEGIN:VEVENT
UID:1b9badb1-8f33-4c4b-8b7d-0dd4cdeec27d
DTSTAMP:20260422T125546Z
CATEGORIES:Training
CLASS:PUBLIC
DESCRIPTION;ALTREP="CID:<FFFF__=0ABBE548DFE235B58f9e8a93d@coffeebean.com>":
 \nAlle Gruppen gemeinsames Einwärmen mit Andrea\n\nGruppe 1: Goshushiho-Da
 i\nGruppe 2: Tekki Sandan\nGruppe 3: Kanku-Dai\n\n\n
DTSTART:20210103T090000Z
DTEND:20210103T103000Z
GEO:00;0
LOCATION:zu Hause
ORGANIZER;CN=:tommaso.mini@jka-karate.ch
SEQUENCE:1
SUMMARY:Neujahrstraining
TRANSP:OPAQUE
URL:https://www.jka-karate.ch/cms/index.php/component/icagenda/17-neujahrst
 raining
END:VEVENT
END:VCALENDAR
