BEGIN:VCALENDAR
VERSION:2.0
PRODID:-//SKR - Swiss Karatedo Renmei Yudanshakai//NONSGML kigkonsult.se iC
 alcreator 2.30.10//
CALSCALE:GREGORIAN
METHOD:PUBLISH
UID:dda8763f-6aea-492f-939a-9c2b77ad103b
X-WR-CALNAME:iCagenda
X-WR-CALDESC:Event Management Extension for Joomla!
X-WR-RELCALID:3E26604A-50F4-4449-8B3E-E4F4932D05B5
X-WR-TIMEZONE:Europe/Zurich
BEGIN:VTIMEZONE
TZID:Europe/Zurich
BEGIN:STANDARD
TZNAME:CET
DTSTART:20201025T030000
TZOFFSETFROM:+0200
TZOFFSETTO:+0100
RDATE:20211031T030000
END:STANDARD
BEGIN:DAYLIGHT
TZNAME:CEST
DTSTART:20200329T020000
TZOFFSETFROM:+0100
TZOFFSETTO:+0200
RDATE:20210328T020000
RDATE:20220327T020000
END:DAYLIGHT
END:VTIMEZONE
BEGIN:VEVENT
UID:6e9af175-c430-484c-a9dc-ce5d23612042
DTSTAMP:20260422T130802Z
CATEGORIES:Training
CLASS:PUBLIC
DESCRIPTION;ALTREP="CID:<FFFF__=0ABBE548DFE235B58f9e8a93d@coffeebean.com>":
 Das Training findet Online via Zoom statt.
DTSTART:20210130T130000Z
DTEND:20210130T140000Z
GEO:00;0
LOCATION:zu Hause
ORGANIZER;CN=:tommaso.mini@jka-karate.ch
SEQUENCE:1
SUMMARY:Online-Zentraltraining - 6. bis 1. Kyu
TRANSP:OPAQUE
URL:https://www.jka-karate.ch/cms/index.php/component/icagenda/19-online-ze
 ntraltraining-6-bis-1-kyu
END:VEVENT
END:VCALENDAR
