BEGIN:VCALENDAR
VERSION:2.0
PRODID:-//SKR - Swiss Karatedo Renmei Yudanshakai//NONSGML kigkonsult.se iC
 alcreator 2.30.10//
CALSCALE:GREGORIAN
METHOD:PUBLISH
UID:e43b2e3d-78f5-4d20-9988-b3904e126b13
X-WR-CALNAME:iCagenda
X-WR-CALDESC:Event Management Extension for Joomla!
X-WR-RELCALID:3E26604A-50F4-4449-8B3E-E4F4932D05B5
X-WR-TIMEZONE:Europe/Zurich
BEGIN:VTIMEZONE
TZID:Europe/Zurich
BEGIN:STANDARD
TZNAME:CET
DTSTART:20201025T030000
TZOFFSETFROM:+0200
TZOFFSETTO:+0100
RDATE:20211031T030000
END:STANDARD
BEGIN:DAYLIGHT
TZNAME:CEST
DTSTART:20200329T020000
TZOFFSETFROM:+0100
TZOFFSETTO:+0200
RDATE:20210328T020000
RDATE:20220327T020000
END:DAYLIGHT
END:VTIMEZONE
BEGIN:VEVENT
UID:aa594c75-e58c-4560-8569-f7a46dfd3705
DTSTAMP:20260422T092857Z
CATEGORIES:Verschiedenes
CLASS:PUBLIC
DESCRIPTION;ALTREP="CID:<FFFF__=0ABBE548DFE235B58f9e8a93d@coffeebean.com>":
 Traktanden\n\nBegrüssung durch den Präsidenten\n\n\nAppell und Festlegung 
 der Stimmen\n\n\nWahl des Stimmenzählers\n\n\nGenehmigung Protokoll der DV
  2020 (Zirkularbeschluss)\n\n\nBerichte und Entlastung a) Vorstand b) Tech
 nische Kommission c) Jahresrechnung 2020 d) Bericht Rechnungsprüfungskommi
 ssion\n\n\nDécharge der Organe\n\n\nWahlen a) Wahl des Präsidenten/der Prä
 sidentin b) Wahl der restlichen Vorstandsmitglieder c) Wahl der Rechnungsp
 rüfungskommission\n\n\nJahresprogramm 2021\n\n\nBudget 2021 und Verwendung
  Gewinn Jahresrechnung 2020\n\n\nAnträge\, Verschiedenes und Umfrage\n\n
DTSTART:20210306T160000Z
DTEND:20210306T190000Z
GEO:00;0
LOCATION:zu Hause
ORGANIZER;CN=:stephan.laeuchli@jka-karate.ch
SEQUENCE:1
SUMMARY:Delegiertenversammlung
TRANSP:OPAQUE
URL:https://www.jka-karate.ch/cms/index.php/component/icagenda/23-delegiert
 enversammlung
END:VEVENT
END:VCALENDAR
