BEGIN:VCALENDAR
VERSION:2.0
PRODID:-//SKR - Swiss Karatedo Renmei Yudanshakai//NONSGML kigkonsult.se iC
 alcreator 2.30.10//
CALSCALE:GREGORIAN
METHOD:PUBLISH
UID:4b2846f0-34b1-46af-9311-e38189fcb2bb
X-WR-CALNAME:iCagenda
X-WR-CALDESC:Event Management Extension for Joomla!
X-WR-RELCALID:3E26604A-50F4-4449-8B3E-E4F4932D05B5
X-WR-TIMEZONE:Europe/Zurich
BEGIN:VTIMEZONE
TZID:Europe/Zurich
BEGIN:STANDARD
TZNAME:CET
DTSTART:20201025T030000
TZOFFSETFROM:+0200
TZOFFSETTO:+0100
RDATE:20211031T030000
END:STANDARD
BEGIN:DAYLIGHT
TZNAME:CEST
DTSTART:20200329T020000
TZOFFSETFROM:+0100
TZOFFSETTO:+0200
RDATE:20210328T020000
RDATE:20220327T020000
END:DAYLIGHT
END:VTIMEZONE
BEGIN:VEVENT
UID:57c3b764-9932-468e-95ee-02f026e7542c
DTSTAMP:20260422T093100Z
CATEGORIES:Training
CLASS:PUBLIC
DESCRIPTION;ALTREP="CID:<FFFF__=0ABBE548DFE235B58f9e8a93d@coffeebean.com>":
 Das Training findet Online via Zoom statt.
DTSTART:20210306T130000Z
DTEND:20210306T140000Z
GEO:00;0
LOCATION:zu Hause
ORGANIZER;CN=:tommaso.mini@jka-karate.ch
SEQUENCE:1
SUMMARY:Online-Zentraltraining - ab 1. Dan
TRANSP:OPAQUE
URL:https://www.jka-karate.ch/cms/index.php/component/icagenda/24-online-ze
 ntraltraining-ab-1-dan-2
END:VEVENT
END:VCALENDAR
