BEGIN:VCALENDAR
VERSION:2.0
PRODID:-//SKR - Swiss Karatedo Renmei Yudanshakai//NONSGML kigkonsult.se iC
 alcreator 2.30.10//
CALSCALE:GREGORIAN
METHOD:PUBLISH
UID:0a9e7a2e-93dc-4760-bf4d-6cbe58f89424
X-WR-CALNAME:iCagenda
X-WR-CALDESC:Event Management Extension for Joomla!
X-WR-RELCALID:3E26604A-50F4-4449-8B3E-E4F4932D05B5
X-WR-TIMEZONE:Europe/Zurich
BEGIN:VTIMEZONE
TZID:Europe/Zurich
BEGIN:STANDARD
TZNAME:CET
DTSTART:20201025T030000
TZOFFSETFROM:+0200
TZOFFSETTO:+0100
RDATE:20211031T030000
RDATE:20221030T030000
END:STANDARD
BEGIN:DAYLIGHT
TZNAME:CEST
DTSTART:20210328T020000
TZOFFSETFROM:+0100
TZOFFSETTO:+0200
RDATE:20220327T020000
END:DAYLIGHT
END:VTIMEZONE
BEGIN:VEVENT
UID:e90059c5-7046-47ba-99d6-d49a1e9973c3
DTSTAMP:20260422T092927Z
CATEGORIES:Training
CLASS:PUBLIC
DESCRIPTION;ALTREP="CID:<FFFF__=0ABBE548DFE235B58f9e8a93d@coffeebean.com>":
 In der Halle sind keine Zuschauer zugelassen.\n
DTSTART:20210501T083000Z
DTEND:20210501T101500Z
GEO:00;0
LOCATION:Lenzburg
ORGANIZER;CN=:katherine.broder@jka-karate.ch
SEQUENCE:1
SUMMARY:Zentraltraining für Kinder
TRANSP:OPAQUE
URL:https://www.jka-karate.ch/cms/index.php/component/icagenda/26-kids-zent
 raltraining
END:VEVENT
END:VCALENDAR
