BEGIN:VCALENDAR
VERSION:2.0
PRODID:-//SKR - Swiss Karatedo Renmei Yudanshakai//NONSGML kigkonsult.se iC
 alcreator 2.30.10//
CALSCALE:GREGORIAN
METHOD:PUBLISH
UID:50c6e0e1-d74a-4745-9d60-80f374cdb68f
X-WR-CALNAME:iCagenda
X-WR-CALDESC:Event Management Extension for Joomla!
X-WR-RELCALID:3E26604A-50F4-4449-8B3E-E4F4932D05B5
X-WR-TIMEZONE:Europe/Zurich
BEGIN:VTIMEZONE
TZID:Europe/Zurich
BEGIN:STANDARD
TZNAME:CET
DTSTART:20201025T030000
TZOFFSETFROM:+0200
TZOFFSETTO:+0100
RDATE:20211031T030000
RDATE:20221030T030000
END:STANDARD
BEGIN:DAYLIGHT
TZNAME:CEST
DTSTART:20210328T020000
TZOFFSETFROM:+0100
TZOFFSETTO:+0200
RDATE:20220327T020000
END:DAYLIGHT
END:VTIMEZONE
BEGIN:VEVENT
UID:7c197bc1-b7a2-4ea6-8fb2-5f906981df48
DTSTAMP:20260422T091658Z
CATEGORIES:Training
CLASS:PUBLIC
DESCRIPTION;ALTREP="CID:<FFFF__=0ABBE548DFE235B58f9e8a93d@coffeebean.com>":
 In der Halle sind keine Zuschauer zugelassen.Für die Prüfung wird die Teil
 nahme am Training vorausgesetzt.\n
DTSTART:20210502T083000Z
DTEND:20210502T130000Z
GEO:00;0
LOCATION:Köniz BE
ORGANIZER;CN=:beni.isenegger@jka-karate.ch
SEQUENCE:1
SUMMARY:Zentraltraining mit Prüfungen
TRANSP:OPAQUE
URL:https://www.jka-karate.ch/cms/index.php/component/icagenda/28-kids-zent
 raltraining-3
END:VEVENT
END:VCALENDAR
