BEGIN:VCALENDAR
VERSION:2.0
PRODID:-//SKR - Swiss Karatedo Renmei Yudanshakai//NONSGML kigkonsult.se iC
 alcreator 2.30.10//
CALSCALE:GREGORIAN
METHOD:PUBLISH
UID:84ffe58b-53e6-41d3-a9ff-051a2bb8e2b7
X-WR-CALNAME:iCagenda
X-WR-CALDESC:Event Management Extension for Joomla!
X-WR-RELCALID:3E26604A-50F4-4449-8B3E-E4F4932D05B5
X-WR-TIMEZONE:Europe/Zurich
BEGIN:VTIMEZONE
TZID:Europe/Zurich
BEGIN:STANDARD
TZNAME:CET
DTSTART:20191027T030000
TZOFFSETFROM:+0200
TZOFFSETTO:+0100
RDATE:20201025T030000
END:STANDARD
BEGIN:DAYLIGHT
TZNAME:CEST
DTSTART:20190331T020000
TZOFFSETFROM:+0100
TZOFFSETTO:+0200
RDATE:20200329T020000
RDATE:20210328T020000
END:DAYLIGHT
END:VTIMEZONE
BEGIN:VEVENT
UID:86009933-4df5-460e-92bb-e957693113c0
DTSTAMP:20260422T111712Z
CATEGORIES:Training
CLASS:PUBLIC
DESCRIPTION;ALTREP="CID:<FFFF__=0ABBE548DFE235B58f9e8a93d@coffeebean.com>":
 Hallenöffnung: 10.00 UhrTraining: 10.30 - 11.30 UhrPause: 11.30 - 12.20 Uh
 rTraining 12.20 - 13.20 UhrCHF 10.— für beide Trainings (in der Halle zu b
 ezahlen)
DTSTART:20200307T093000Z
DTEND:20200307T122000Z
GEO:00;0
LOCATION:Lenzburg
ORGANIZER;CN=:info@jka-karate.ch
SEQUENCE:1
SUMMARY:Abgesagt - Zentraltraining für Kinder
TRANSP:OPAQUE
URL:https://www.jka-karate.ch/cms/index.php/component/icagenda/3-zentraltra
 ining-fuer-kinder
END:VEVENT
END:VCALENDAR
