BEGIN:VCALENDAR
VERSION:2.0
PRODID:-//SKR - Swiss Karatedo Renmei Yudanshakai//NONSGML kigkonsult.se iC
 alcreator 2.30.10//
CALSCALE:GREGORIAN
METHOD:PUBLISH
UID:78e8f43e-4a1a-43a1-9ceb-436468cabfc7
X-WR-CALNAME:iCagenda
X-WR-CALDESC:Event Management Extension for Joomla!
X-WR-RELCALID:3E26604A-50F4-4449-8B3E-E4F4932D05B5
X-WR-TIMEZONE:Europe/Zurich
BEGIN:VTIMEZONE
TZID:Europe/Zurich
BEGIN:STANDARD
TZNAME:CET
DTSTART:20201025T030000
TZOFFSETFROM:+0200
TZOFFSETTO:+0100
RDATE:20211031T030000
RDATE:20221030T030000
END:STANDARD
BEGIN:DAYLIGHT
TZNAME:CEST
DTSTART:20210328T020000
TZOFFSETFROM:+0100
TZOFFSETTO:+0200
RDATE:20220327T020000
END:DAYLIGHT
END:VTIMEZONE
BEGIN:VEVENT
UID:27cf6856-c4ec-4c02-b28f-a2140b893646
DTSTAMP:20260422T111752Z
CATEGORIES:Turnier
CLASS:PUBLIC
DESCRIPTION;ALTREP="CID:<FFFF__=0ABBE548DFE235B58f9e8a93d@coffeebean.com>":
 Infos werden demnächst auf Sportdata publiziert.
DTSTART:20210612T220000Z
DTEND:20210612T220000Z
GEO:00;0
LOCATION:Bern
ORGANIZER;CN=:beni.isenegger@jka-karate.ch
SEQUENCE:1
SUMMARY:Swiss Ippon Shobu und Shotokan Kata Cup
TRANSP:OPAQUE
URL:https://www.jka-karate.ch/cms/index.php/component/icagenda/32-swiss-ipp
 on-shobu-shotokan-kata-cup
END:VEVENT
END:VCALENDAR
