BEGIN:VCALENDAR
VERSION:2.0
PRODID:-//SKR - Swiss Karatedo Renmei Yudanshakai//NONSGML kigkonsult.se iC
 alcreator 2.30.10//
CALSCALE:GREGORIAN
METHOD:PUBLISH
UID:6311b8ad-128f-437d-ac08-b4f73b2ab1b5
X-WR-CALNAME:iCagenda
X-WR-CALDESC:Event Management Extension for Joomla!
X-WR-RELCALID:3E26604A-50F4-4449-8B3E-E4F4932D05B5
X-WR-TIMEZONE:Europe/Zurich
BEGIN:VTIMEZONE
TZID:Europe/Zurich
BEGIN:STANDARD
TZNAME:CET
DTSTART:20201025T030000
TZOFFSETFROM:+0200
TZOFFSETTO:+0100
RDATE:20211031T030000
RDATE:20221030T030000
END:STANDARD
BEGIN:DAYLIGHT
TZNAME:CEST
DTSTART:20210328T020000
TZOFFSETFROM:+0100
TZOFFSETTO:+0200
RDATE:20220327T020000
END:DAYLIGHT
END:VTIMEZONE
BEGIN:VEVENT
UID:4729ce68-caf7-4403-bef6-306f99ad742c
DTSTAMP:20260423T092654Z
CATEGORIES:Training
CLASS:PUBLIC
DESCRIPTION:
DTSTART:20210804T220000Z
DTEND:20210807T220000Z
GEO:00;0
LOCATION:Bern
ORGANIZER;CN=:info@karate-bern.ch
SEQUENCE:1
SUMMARY:Sensei Sugimura Memorial Gasshuku
TRANSP:OPAQUE
URL:https://www.jka-karate.ch/cms/index.php/component/icagenda/33-sensei-su
 gimura-memorial-gasshuku
END:VEVENT
END:VCALENDAR
