BEGIN:VCALENDAR
VERSION:2.0
PRODID:-//SKR - Swiss Karatedo Renmei Yudanshakai//NONSGML kigkonsult.se iC
 alcreator 2.30.10//
CALSCALE:GREGORIAN
METHOD:PUBLISH
UID:5e194736-8602-4734-8c47-95f8ff49dfbd
X-WR-CALNAME:iCagenda
X-WR-CALDESC:Event Management Extension for Joomla!
X-WR-RELCALID:3E26604A-50F4-4449-8B3E-E4F4932D05B5
X-WR-TIMEZONE:Europe/Zurich
BEGIN:VTIMEZONE
TZID:Europe/Zurich
BEGIN:STANDARD
TZNAME:CET
DTSTART:20201025T030000
TZOFFSETFROM:+0200
TZOFFSETTO:+0100
RDATE:20211031T030000
RDATE:20221030T030000
END:STANDARD
BEGIN:DAYLIGHT
TZNAME:CEST
DTSTART:20210328T020000
TZOFFSETFROM:+0100
TZOFFSETTO:+0200
RDATE:20220327T020000
RDATE:20230326T020000
END:DAYLIGHT
END:VTIMEZONE
BEGIN:VEVENT
UID:239a6493-cac0-4bd0-9d6e-5d960b06c2d1
DTSTAMP:20260421T081024Z
CATEGORIES:Verschiedenes
CLASS:PUBLIC
DESCRIPTION;ALTREP="CID:<FFFF__=0ABBE548DFE235B58f9e8a93d@coffeebean.com>":
 Anmeldeschluss: 9. Oktober 2021 (Anmeldung wird demnächst aufgeschalten)\n
 \nTraining: Von 14.30 bis 16.00 Uhr\nApéro: Ab 17.00 Uhr&nbsp\;\n\n
DTSTART:20211015T220000Z
DTEND:20211015T220000Z
GEO:00;0
LOCATION:Wauwilermoos
ORGANIZER;CN=:karate-schoetz@gmx.ch
SEQUENCE:1
SUMMARY:Dantag
TRANSP:OPAQUE
URL:https://www.jka-karate.ch/cms/index.php/component/icagenda/35-dantag
END:VEVENT
END:VCALENDAR
