BEGIN:VCALENDAR
VERSION:2.0
PRODID:-//SKR - Swiss Karatedo Renmei Yudanshakai//NONSGML kigkonsult.se iC
 alcreator 2.30.10//
CALSCALE:GREGORIAN
METHOD:PUBLISH
UID:936e9e98-c53e-4b82-a4df-91ffe13691ce
X-WR-CALNAME:iCagenda
X-WR-CALDESC:Event Management Extension for Joomla!
X-WR-RELCALID:3E26604A-50F4-4449-8B3E-E4F4932D05B5
X-WR-TIMEZONE:Europe/Zurich
BEGIN:VTIMEZONE
TZID:Europe/Zurich
BEGIN:STANDARD
TZNAME:CET
DTSTART:20201025T030000
TZOFFSETFROM:+0200
TZOFFSETTO:+0100
RDATE:20211031T030000
RDATE:20221030T030000
END:STANDARD
BEGIN:DAYLIGHT
TZNAME:CEST
DTSTART:20210328T020000
TZOFFSETFROM:+0100
TZOFFSETTO:+0200
RDATE:20220327T020000
END:DAYLIGHT
END:VTIMEZONE
BEGIN:VEVENT
UID:eda3cef3-c3c1-4746-b39e-bb9f631c0171
DTSTAMP:20260423T092222Z
CATEGORIES:Turnier
CLASS:PUBLIC
DESCRIPTION:
DTSTART:20210918T220000Z
DTEND:20210918T220000Z
GEO:00;0
LOCATION:Dagmersellen
ORGANIZER;CN=:tommaso.mini@jka-karate.ch
SEQUENCE:1
SUMMARY:SKR Nachwuchsturnier 2021
TRANSP:OPAQUE
URL:https://www.jka-karate.ch/cms/index.php/component/icagenda/38-skr-nachw
 uchsturnier-2021
END:VEVENT
END:VCALENDAR
