BEGIN:VCALENDAR
VERSION:2.0
PRODID:-//SKR - Swiss Karatedo Renmei Yudanshakai//NONSGML kigkonsult.se iC
 alcreator 2.30.10//
CALSCALE:GREGORIAN
METHOD:PUBLISH
UID:6066c6ac-956e-4117-9ca2-d6531d58ca37
X-WR-CALNAME:iCagenda
X-WR-CALDESC:Event Management Extension for Joomla!
X-WR-RELCALID:3E26604A-50F4-4449-8B3E-E4F4932D05B5
X-WR-TIMEZONE:Europe/Zurich
BEGIN:VTIMEZONE
TZID:Europe/Zurich
BEGIN:STANDARD
TZNAME:CET
DTSTART:20191027T030000
TZOFFSETFROM:+0200
TZOFFSETTO:+0100
RDATE:20201025T030000
RDATE:20211031T030000
END:STANDARD
BEGIN:DAYLIGHT
TZNAME:CEST
DTSTART:20200329T020000
TZOFFSETFROM:+0100
TZOFFSETTO:+0200
RDATE:20210328T020000
END:DAYLIGHT
END:VTIMEZONE
BEGIN:VEVENT
UID:9b87c4bd-1d11-4deb-bd80-a9717d18e462
DTSTAMP:20260422T111316Z
CATEGORIES:Turnier
CLASS:PUBLIC
DESCRIPTION:
DTSTART:20200515T220000Z
DTEND:20200515T220000Z
GEO:00;0
LOCATION:Wettingen
ORGANIZER;CN=:tommaso.mini@bluemail.ch
SEQUENCE:1
SUMMARY:Abgesagt - 47. Fujimura Cup
TRANSP:OPAQUE
URL:https://www.jka-karate.ch/cms/index.php/component/icagenda/4-47-fujimur
 a-cup
END:VEVENT
END:VCALENDAR
