BEGIN:VCALENDAR
VERSION:2.0
PRODID:-//SKR - Swiss Karatedo Renmei Yudanshakai//NONSGML kigkonsult.se iC
 alcreator 2.30.10//
CALSCALE:GREGORIAN
METHOD:PUBLISH
UID:32a997b9-5cbf-48b5-aed8-68b6d46ec17c
X-WR-CALNAME:iCagenda
X-WR-CALDESC:Event Management Extension for Joomla!
X-WR-RELCALID:3E26604A-50F4-4449-8B3E-E4F4932D05B5
X-WR-TIMEZONE:Europe/Zurich
BEGIN:VTIMEZONE
TZID:Europe/Zurich
BEGIN:STANDARD
TZNAME:CET
DTSTART:20201025T030000
TZOFFSETFROM:+0200
TZOFFSETTO:+0100
RDATE:20211031T030000
RDATE:20221030T030000
END:STANDARD
BEGIN:DAYLIGHT
TZNAME:CEST
DTSTART:20210328T020000
TZOFFSETFROM:+0100
TZOFFSETTO:+0200
RDATE:20220327T020000
END:DAYLIGHT
END:VTIMEZONE
BEGIN:VEVENT
UID:3bdfd138-c31c-4b5b-8133-de5a339adf7b
DTSTAMP:20260423T092654Z
CATEGORIES:Training
CLASS:PUBLIC
DESCRIPTION;ALTREP="CID:<FFFF__=0ABBE548DFE235B58f9e8a93d@coffeebean.com>":
 Kosten pro Training: CHF 20.00 (sind in der Halle zu bezahlen - Bar\, Twin
 t\, Karten) Anmeldeschluss: 3. September 2021\n
DTSTART:20210904T120000Z
DTEND:20210904T140000Z
GEO:00;0
LOCATION:Lenzburg
ORGANIZER;CN=:tommaso.mini@jka-karate.ch
SEQUENCE:1
SUMMARY:Zentraltraining mit Prüfungen
TRANSP:OPAQUE
URL:https://www.jka-karate.ch/cms/index.php/component/icagenda/40-zentraltr
 aining-mit-pruefungen
END:VEVENT
END:VCALENDAR
