BEGIN:VCALENDAR
VERSION:2.0
PRODID:-//SKR - Swiss Karatedo Renmei Yudanshakai//NONSGML kigkonsult.se iC
 alcreator 2.30.10//
CALSCALE:GREGORIAN
METHOD:PUBLISH
UID:69577654-a49a-4c7e-b448-952970446337
X-WR-CALNAME:iCagenda
X-WR-CALDESC:Event Management Extension for Joomla!
X-WR-RELCALID:3E26604A-50F4-4449-8B3E-E4F4932D05B5
X-WR-TIMEZONE:Europe/Zurich
BEGIN:VTIMEZONE
TZID:Europe/Zurich
BEGIN:STANDARD
TZNAME:CET
DTSTART:20211031T030000
TZOFFSETFROM:+0200
TZOFFSETTO:+0100
RDATE:20221030T030000
END:STANDARD
BEGIN:DAYLIGHT
TZNAME:CEST
DTSTART:20210328T020000
TZOFFSETFROM:+0100
TZOFFSETTO:+0200
RDATE:20220327T020000
RDATE:20230326T020000
END:DAYLIGHT
END:VTIMEZONE
BEGIN:VEVENT
UID:785426db-76a5-411c-a556-6ee33830e278
DTSTAMP:20260421T060912Z
CATEGORIES:Turnier
CLASS:PUBLIC
DESCRIPTION:
DTSTART:20211112T230000Z
DTEND:20211112T230000Z
GEO:00;0
LOCATION:Allschwil
ORGANIZER:
SEQUENCE:1
SUMMARY:SKR Ippon Shobu Cup 2021
TRANSP:OPAQUE
URL:https://www.jka-karate.ch/cms/index.php/component/icagenda/43-skr-ippon
 -shobu-cup-2021
END:VEVENT
END:VCALENDAR
