BEGIN:VCALENDAR
VERSION:2.0
PRODID:-//SKR - Swiss Karatedo Renmei Yudanshakai//NONSGML kigkonsult.se iC
 alcreator 2.30.10//
CALSCALE:GREGORIAN
METHOD:PUBLISH
UID:73b7bc3b-ef5b-40af-9037-309ebb3000c8
X-WR-CALNAME:iCagenda
X-WR-CALDESC:Event Management Extension for Joomla!
X-WR-RELCALID:3E26604A-50F4-4449-8B3E-E4F4932D05B5
X-WR-TIMEZONE:Europe/Zurich
BEGIN:VTIMEZONE
TZID:Europe/Zurich
BEGIN:STANDARD
TZNAME:CET
DTSTART:20211031T030000
TZOFFSETFROM:+0200
TZOFFSETTO:+0100
RDATE:20221030T030000
END:STANDARD
BEGIN:DAYLIGHT
TZNAME:CEST
DTSTART:20210328T020000
TZOFFSETFROM:+0100
TZOFFSETTO:+0200
RDATE:20220327T020000
RDATE:20230326T020000
END:DAYLIGHT
END:VTIMEZONE
BEGIN:VEVENT
UID:fa73ee22-a522-45e6-9051-4d093cc6f2f5
DTSTAMP:20260421T060923Z
CATEGORIES:Turnier
CLASS:PUBLIC
DESCRIPTION;ALTREP="CID:<FFFF__=0ABBE548DFE235B58f9e8a93d@coffeebean.com>":
 Zuschauer sind sowohl beim Training (09:30 bis 12.00 Uhr) als auch beim Ve
 rgleichskampf&nbsp\;herzlich willkommen!
DTSTART:20211120T123000Z
DTEND:20211120T153000Z
GEO:00;0
LOCATION:
ORGANIZER;CN=:beni.isenegger@jka-karate.ch
SEQUENCE:1
SUMMARY:Länderkampf Belgien - Schweiz
TRANSP:OPAQUE
URL:https://www.jka-karate.ch/cms/index.php/component/icagenda/47-laenderka
 mpf-belgien-schweiz
END:VEVENT
END:VCALENDAR
