BEGIN:VCALENDAR
VERSION:2.0
PRODID:-//SKR - Swiss Karatedo Renmei Yudanshakai//NONSGML kigkonsult.se iC
 alcreator 2.30.10//
CALSCALE:GREGORIAN
METHOD:PUBLISH
UID:caad3666-701e-4a9c-8666-723e081b6740
X-WR-CALNAME:iCagenda
X-WR-CALDESC:Event Management Extension for Joomla!
X-WR-RELCALID:3E26604A-50F4-4449-8B3E-E4F4932D05B5
X-WR-TIMEZONE:Europe/Zurich
BEGIN:VTIMEZONE
TZID:Europe/Zurich
BEGIN:STANDARD
TZNAME:CET
DTSTART:20191027T030000
TZOFFSETFROM:+0200
TZOFFSETTO:+0100
RDATE:20201025T030000
END:STANDARD
BEGIN:DAYLIGHT
TZNAME:CEST
DTSTART:20190331T020000
TZOFFSETFROM:+0100
TZOFFSETTO:+0200
RDATE:20200329T020000
RDATE:20210328T020000
END:DAYLIGHT
END:VTIMEZONE
BEGIN:VEVENT
UID:66509ec5-ad8d-4a1a-a8ed-73beee633920
DTSTAMP:20260422T105804Z
CATEGORIES:Turnier
CLASS:PUBLIC
DESCRIPTION:
DTSTART:20200321T230000Z
DTEND:20200321T230000Z
GEO:00;0
LOCATION:Dagmersellen
ORGANIZER:
SEQUENCE:1
SUMMARY:Abgesagt - Frühlingsturnier 2020
TRANSP:OPAQUE
URL:https://www.jka-karate.ch/cms/index.php/component/icagenda/5-fruehlings
 turnier-2020
END:VEVENT
END:VCALENDAR
