BEGIN:VCALENDAR
VERSION:2.0
PRODID:-//SKR - Swiss Karatedo Renmei Yudanshakai//NONSGML kigkonsult.se iC
 alcreator 2.30.10//
CALSCALE:GREGORIAN
METHOD:PUBLISH
UID:a55c7124-a4b5-408d-9184-df9256c34b22
X-WR-CALNAME:iCagenda
X-WR-CALDESC:Event Management Extension for Joomla!
X-WR-RELCALID:3E26604A-50F4-4449-8B3E-E4F4932D05B5
X-WR-TIMEZONE:Europe/Zurich
BEGIN:VTIMEZONE
TZID:Europe/Zurich
BEGIN:STANDARD
TZNAME:CET
DTSTART:20191027T030000
TZOFFSETFROM:+0200
TZOFFSETTO:+0100
RDATE:20201025T030000
END:STANDARD
BEGIN:DAYLIGHT
TZNAME:CEST
DTSTART:20190331T020000
TZOFFSETFROM:+0100
TZOFFSETTO:+0200
RDATE:20200329T020000
RDATE:20210328T020000
END:DAYLIGHT
END:VTIMEZONE
BEGIN:VEVENT
UID:38eb6efa-df7e-4745-b778-17ac6af15bb0
DTSTAMP:20260422T145701Z
CATEGORIES:Ausbildung
CLASS:PUBLIC
DESCRIPTION:
DTSTART:20200314T083000Z
DTEND:20200314T160000Z
GEO:00;0
LOCATION:Leuggern
ORGANIZER;CN=:stephan.laeuchli@jka-karate.ch
SEQUENCE:1
SUMMARY:Abgesagt - Trainerausbildung: Modul 1
TRANSP:OPAQUE
URL:https://www.jka-karate.ch/cms/index.php/component/icagenda/6-traineraus
 bildung-modul-1
END:VEVENT
END:VCALENDAR
