BEGIN:VCALENDAR
VERSION:2.0
PRODID:-//SKR - Swiss Karatedo Renmei Yudanshakai//NONSGML kigkonsult.se iC
 alcreator 2.30.10//
CALSCALE:GREGORIAN
METHOD:PUBLISH
UID:6562d4bf-037d-49df-92d3-47eae53afbee
X-WR-CALNAME:iCagenda
X-WR-CALDESC:Event Management Extension for Joomla!
X-WR-RELCALID:3E26604A-50F4-4449-8B3E-E4F4932D05B5
X-WR-TIMEZONE:Europe/Zurich
BEGIN:VTIMEZONE
TZID:Europe/Zurich
BEGIN:STANDARD
TZNAME:CET
DTSTART:20211031T030000
TZOFFSETFROM:+0200
TZOFFSETTO:+0100
RDATE:20221030T030000
RDATE:20231029T030000
END:STANDARD
BEGIN:DAYLIGHT
TZNAME:CEST
DTSTART:20220327T020000
TZOFFSETFROM:+0100
TZOFFSETTO:+0200
RDATE:20230326T020000
END:DAYLIGHT
END:VTIMEZONE
BEGIN:VEVENT
UID:aa47f4c3-418e-462b-83bc-1c9bf74db33f
DTSTAMP:20260422T091414Z
CATEGORIES:Turnier
CLASS:PUBLIC
DESCRIPTION:
DTSTART:20220617T220000Z
DTEND:20220617T220000Z
GEO:00;0
LOCATION:Sursee
ORGANIZER:
SEQUENCE:1
SUMMARY:International Swiss Karate Cup
TRANSP:OPAQUE
URL:https://www.jka-karate.ch/cms/index.php/component/icagenda/68-int-jka-c
 up
END:VEVENT
END:VCALENDAR
