BEGIN:VCALENDAR
VERSION:2.0
PRODID:-//SKR - Swiss Karatedo Renmei Yudanshakai//NONSGML kigkonsult.se iC
 alcreator 2.30.10//
CALSCALE:GREGORIAN
METHOD:PUBLISH
UID:5a712cc7-53a7-4d0b-a65d-3f0a3b833a5a
X-WR-CALNAME:iCagenda
X-WR-CALDESC:Event Management Extension for Joomla!
X-WR-RELCALID:3E26604A-50F4-4449-8B3E-E4F4932D05B5
X-WR-TIMEZONE:Europe/Zurich
BEGIN:VTIMEZONE
TZID:Europe/Zurich
BEGIN:STANDARD
TZNAME:CET
DTSTART:20211031T030000
TZOFFSETFROM:+0200
TZOFFSETTO:+0100
RDATE:20221030T030000
RDATE:20231029T030000
END:STANDARD
BEGIN:DAYLIGHT
TZNAME:CEST
DTSTART:20220327T020000
TZOFFSETFROM:+0100
TZOFFSETTO:+0200
RDATE:20230326T020000
END:DAYLIGHT
END:VTIMEZONE
BEGIN:VEVENT
UID:bb9c4182-f33a-47d9-8641-57eb1f39bce6
DTSTAMP:20260422T124642Z
CATEGORIES:Training
CLASS:PUBLIC
DESCRIPTION;ALTREP="CID:<FFFF__=0ABBE548DFE235B58f9e8a93d@coffeebean.com>":
 Anmeldeschluss: 31. Juli 2022\n
DTSTART:20220803T220000Z
DTEND:20220806T220000Z
GEO:00;0
LOCATION:Bern
ORGANIZER;CN=:info@karate-bern.ch
SEQUENCE:1
SUMMARY:Sensei Sugimura Memorial Gasshuku 2022
TRANSP:OPAQUE
URL:https://www.jka-karate.ch/cms/index.php/component/icagenda/73-sensei-su
 gimura-memorial-gasshuku-2022
END:VEVENT
END:VCALENDAR
