BEGIN:VCALENDAR
VERSION:2.0
PRODID:-//SKR - Swiss Karatedo Renmei Yudanshakai//NONSGML kigkonsult.se iC
 alcreator 2.30.10//
CALSCALE:GREGORIAN
METHOD:PUBLISH
UID:6c37c841-e345-4a84-9df9-c586b11cec14
X-WR-CALNAME:iCagenda
X-WR-CALDESC:Event Management Extension for Joomla!
X-WR-RELCALID:3E26604A-50F4-4449-8B3E-E4F4932D05B5
X-WR-TIMEZONE:Europe/Zurich
BEGIN:VTIMEZONE
TZID:Europe/Zurich
BEGIN:STANDARD
TZNAME:CET
DTSTART:20211031T030000
TZOFFSETFROM:+0200
TZOFFSETTO:+0100
RDATE:20221030T030000
RDATE:20231029T030000
END:STANDARD
BEGIN:DAYLIGHT
TZNAME:CEST
DTSTART:20220327T020000
TZOFFSETFROM:+0100
TZOFFSETTO:+0200
RDATE:20230326T020000
END:DAYLIGHT
END:VTIMEZONE
BEGIN:VEVENT
UID:629dd208-6ab9-405c-bcdf-ab751d2651b5
DTSTAMP:20260422T124217Z
CATEGORIES:Ausbildung
CLASS:PUBLIC
DESCRIPTION:
DTSTART:20220827T103000Z
DTEND:20220827T153000Z
GEO:00;0
LOCATION:Lenzburg
ORGANIZER;CN=:tommaso.mini@jka-karate.ch
SEQUENCE:1
SUMMARY:Technischer Workshop
TRANSP:OPAQUE
URL:https://www.jka-karate.ch/cms/index.php/component/icagenda/74-technisch
 er-workshop-4
END:VEVENT
END:VCALENDAR
