BEGIN:VCALENDAR
VERSION:2.0
PRODID:-//SKR - Swiss Karatedo Renmei Yudanshakai//NONSGML kigkonsult.se iC
 alcreator 2.30.10//
CALSCALE:GREGORIAN
METHOD:PUBLISH
UID:d26ac709-b028-4b67-9775-732fe17354ef
X-WR-CALNAME:iCagenda
X-WR-CALDESC:Event Management Extension for Joomla!
X-WR-RELCALID:3E26604A-50F4-4449-8B3E-E4F4932D05B5
X-WR-TIMEZONE:Europe/Zurich
BEGIN:VTIMEZONE
TZID:Europe/Zurich
BEGIN:STANDARD
TZNAME:CET
DTSTART:20191027T030000
TZOFFSETFROM:+0200
TZOFFSETTO:+0100
RDATE:20201025T030000
RDATE:20211031T030000
END:STANDARD
BEGIN:DAYLIGHT
TZNAME:CEST
DTSTART:20200329T020000
TZOFFSETFROM:+0100
TZOFFSETTO:+0200
RDATE:20210328T020000
RDATE:20220327T020000
END:DAYLIGHT
END:VTIMEZONE
BEGIN:VEVENT
UID:8b67d9f3-1260-485c-8ed9-f7ab0805dde6
DTSTAMP:20260421T060733Z
CATEGORIES:Ausbildung
CLASS:PUBLIC
DESCRIPTION:
DTSTART:20201010T073000Z
DTEND:20201010T150000Z
GEO:00;0
LOCATION:Bern
ORGANIZER;CN=:stephan.laeuchli@jka-karate.ch
SEQUENCE:1
SUMMARY:Abgesagt - Trainerausbildung: Modul 3
TRANSP:OPAQUE
URL:https://www.jka-karate.ch/cms/index.php/component/icagenda/8-traineraus
 bildung-modul-3
END:VEVENT
END:VCALENDAR
