BEGIN:VCALENDAR
VERSION:2.0
PRODID:-//SKR - Swiss Karatedo Renmei Yudanshakai//NONSGML kigkonsult.se iC
 alcreator 2.30.10//
CALSCALE:GREGORIAN
METHOD:PUBLISH
UID:85390bde-cc3d-4d81-a3a1-b2ff7a99dd7a
X-WR-CALNAME:iCagenda
X-WR-CALDESC:Event Management Extension for Joomla!
X-WR-RELCALID:3E26604A-50F4-4449-8B3E-E4F4932D05B5
X-WR-TIMEZONE:Europe/Zurich
BEGIN:VTIMEZONE
TZID:Europe/Zurich
BEGIN:STANDARD
TZNAME:CET
DTSTART:20221030T030000
TZOFFSETFROM:+0200
TZOFFSETTO:+0100
RDATE:20231029T030000
END:STANDARD
BEGIN:DAYLIGHT
TZNAME:CEST
DTSTART:20220327T020000
TZOFFSETFROM:+0100
TZOFFSETTO:+0200
RDATE:20230326T020000
RDATE:20240331T020000
END:DAYLIGHT
END:VTIMEZONE
BEGIN:VEVENT
UID:926382e4-9c53-45d7-a870-c802dece8b57
DTSTAMP:20260422T125546Z
CATEGORIES:Turnier
CLASS:PUBLIC
DESCRIPTION;ALTREP="CID:<FFFF__=0ABBE548DFE235B58f9e8a93d@coffeebean.com>":
 Sportdata 'SKR Herbstturnier 2022'Sportdata 'SKR Ippon Shobu Cup 2022'
DTSTART:20221112T230000Z
DTEND:20221112T230000Z
GEO:00;0
LOCATION:Allschwil
ORGANIZER;CN=:christian.mundwiler@jka-karate.ch
SEQUENCE:1
SUMMARY:Herbstturnier und Ippon Shobu Cup
TRANSP:OPAQUE
URL:https://www.jka-karate.ch/cms/index.php/component/icagenda/81-herbsttur
 nier
END:VEVENT
END:VCALENDAR
