BEGIN:VCALENDAR
VERSION:2.0
PRODID:-//SKR - Swiss Karatedo Renmei Yudanshakai//NONSGML kigkonsult.se iC
 alcreator 2.30.10//
CALSCALE:GREGORIAN
METHOD:PUBLISH
UID:0da18259-1c80-4290-969f-59f776f74510
X-WR-CALNAME:iCagenda
X-WR-CALDESC:Event Management Extension for Joomla!
X-WR-RELCALID:3E26604A-50F4-4449-8B3E-E4F4932D05B5
X-WR-TIMEZONE:Europe/Zurich
BEGIN:VTIMEZONE
TZID:Europe/Zurich
BEGIN:STANDARD
TZNAME:CET
DTSTART:20221030T030000
TZOFFSETFROM:+0200
TZOFFSETTO:+0100
RDATE:20231029T030000
END:STANDARD
BEGIN:DAYLIGHT
TZNAME:CEST
DTSTART:20220327T020000
TZOFFSETFROM:+0100
TZOFFSETTO:+0200
RDATE:20230326T020000
RDATE:20240331T020000
END:DAYLIGHT
END:VTIMEZONE
BEGIN:VEVENT
UID:832ba5e8-0147-4909-b02b-c9c453735824
DTSTAMP:20260422T111846Z
CATEGORIES:Turnier
CLASS:PUBLIC
DESCRIPTION:
DTSTART:20221202T123000Z
DTEND:20221204T190000Z
GEO:00;0
LOCATION:Winterthur
ORGANIZER:
SEQUENCE:1
SUMMARY:ESKA European Shotokan Karate Do Championships
TRANSP:OPAQUE
URL:https://www.jka-karate.ch/cms/index.php/component/icagenda/83-eska-euro
 pean-shotokan-karate-do-championships
END:VEVENT
END:VCALENDAR
