BEGIN:VCALENDAR
VERSION:2.0
PRODID:-//SKR - Swiss Karatedo Renmei Yudanshakai//NONSGML kigkonsult.se iC
 alcreator 2.30.10//
CALSCALE:GREGORIAN
METHOD:PUBLISH
UID:71b2906e-3806-454f-b075-95eba3f7e09a
X-WR-CALNAME:iCagenda
X-WR-CALDESC:Event Management Extension for Joomla!
X-WR-RELCALID:3E26604A-50F4-4449-8B3E-E4F4932D05B5
X-WR-TIMEZONE:Europe/Zurich
BEGIN:VTIMEZONE
TZID:Europe/Zurich
BEGIN:STANDARD
TZNAME:CET
DTSTART:20221030T030000
TZOFFSETFROM:+0200
TZOFFSETTO:+0100
RDATE:20231029T030000
END:STANDARD
BEGIN:DAYLIGHT
TZNAME:CEST
DTSTART:20220327T020000
TZOFFSETFROM:+0100
TZOFFSETTO:+0200
RDATE:20230326T020000
RDATE:20240331T020000
END:DAYLIGHT
END:VTIMEZONE
BEGIN:VEVENT
UID:7fba91cb-1d42-45b6-8129-132640b6f1f6
DTSTAMP:20260422T092857Z
CATEGORIES:Verschiedenes
CLASS:PUBLIC
DESCRIPTION:
DTSTART:20230304T160000Z
DTEND:20230304T190000Z
GEO:00;0
LOCATION:Lenzburg
ORGANIZER;CN=:stephan.laeuchli@jka-karate.ch
SEQUENCE:1
SUMMARY:Delegiertenversammlung
TRANSP:OPAQUE
URL:https://www.jka-karate.ch/cms/index.php/component/icagenda/85-delegiert
 enversammlung-2
END:VEVENT
END:VCALENDAR
