BEGIN:VCALENDAR
VERSION:2.0
PRODID:-//SKR - Swiss Karatedo Renmei Yudanshakai//NONSGML kigkonsult.se iC
 alcreator 2.30.10//
CALSCALE:GREGORIAN
METHOD:PUBLISH
UID:0b5d1461-fdcf-415d-adab-9dd075e0f62e
X-WR-CALNAME:iCagenda
X-WR-CALDESC:Event Management Extension for Joomla!
X-WR-RELCALID:3E26604A-50F4-4449-8B3E-E4F4932D05B5
X-WR-TIMEZONE:Europe/Zurich
BEGIN:VTIMEZONE
TZID:Europe/Zurich
BEGIN:STANDARD
TZNAME:CET
DTSTART:20221030T030000
TZOFFSETFROM:+0200
TZOFFSETTO:+0100
RDATE:20231029T030000
END:STANDARD
BEGIN:DAYLIGHT
TZNAME:CEST
DTSTART:20220327T020000
TZOFFSETFROM:+0100
TZOFFSETTO:+0200
RDATE:20230326T020000
RDATE:20240331T020000
END:DAYLIGHT
END:VTIMEZONE
BEGIN:VEVENT
UID:3e7a6571-9e27-421b-bba2-f48d44b6a7d1
DTSTAMP:20260422T093013Z
CATEGORIES:Turnier
CLASS:PUBLIC
DESCRIPTION:
DTSTART:20230311T230000Z
DTEND:20230311T230000Z
GEO:00;0
LOCATION:Dagmersellen
ORGANIZER:
SEQUENCE:1
SUMMARY:Frühlingsturnier
TRANSP:OPAQUE
URL:https://www.jka-karate.ch/cms/index.php/component/icagenda/88-fruehling
 sturnier-2023
END:VEVENT
END:VCALENDAR
