BEGIN:VCALENDAR
VERSION:2.0
PRODID:-//SKR - Swiss Karatedo Renmei Yudanshakai//NONSGML kigkonsult.se iC
 alcreator 2.30.10//
CALSCALE:GREGORIAN
METHOD:PUBLISH
UID:e3870b55-9b9e-47a2-bc65-c3dba09c27c4
X-WR-CALNAME:iCagenda
X-WR-CALDESC:Event Management Extension for Joomla!
X-WR-RELCALID:3E26604A-50F4-4449-8B3E-E4F4932D05B5
X-WR-TIMEZONE:Europe/Zurich
BEGIN:VTIMEZONE
TZID:Europe/Zurich
BEGIN:STANDARD
TZNAME:CET
DTSTART:20221030T030000
TZOFFSETFROM:+0200
TZOFFSETTO:+0100
RDATE:20231029T030000
END:STANDARD
BEGIN:DAYLIGHT
TZNAME:CEST
DTSTART:20220327T020000
TZOFFSETFROM:+0100
TZOFFSETTO:+0200
RDATE:20230326T020000
RDATE:20240331T020000
END:DAYLIGHT
END:VTIMEZONE
BEGIN:VEVENT
UID:a8d4456f-4125-4f0e-a40b-8404361ec9e9
DTSTAMP:20260422T092926Z
CATEGORIES:Ausbildung
CLASS:PUBLIC
DESCRIPTION;ALTREP="CID:<FFFF__=0ABBE548DFE235B58f9e8a93d@coffeebean.com>":
 Für Dojo-Trainer ab 2. Kyu
DTSTART:20230311T090000Z
DTEND:20230311T160000Z
GEO:00;0
LOCATION:Allschwil
ORGANIZER;CN=:stephan.laeuchli@jka-karate.ch
SEQUENCE:1
SUMMARY:Trainerausbildung: Modul 4
TRANSP:OPAQUE
URL:https://www.jka-karate.ch/cms/index.php/component/icagenda/89-trainerau
 sbildung-modul-4-2023
END:VEVENT
END:VCALENDAR
