BEGIN:VCALENDAR
VERSION:2.0
PRODID:-//SKR - Swiss Karatedo Renmei Yudanshakai//NONSGML kigkonsult.se iC
 alcreator 2.30.10//
CALSCALE:GREGORIAN
METHOD:PUBLISH
UID:09dc683c-4fec-46fb-b225-436d95945756
X-WR-CALNAME:iCagenda
X-WR-CALDESC:Event Management Extension for Joomla!
X-WR-RELCALID:3E26604A-50F4-4449-8B3E-E4F4932D05B5
X-WR-TIMEZONE:Europe/Zurich
BEGIN:VTIMEZONE
TZID:Europe/Zurich
BEGIN:STANDARD
TZNAME:CET
DTSTART:20191027T030000
TZOFFSETFROM:+0200
TZOFFSETTO:+0100
RDATE:20201025T030000
END:STANDARD
BEGIN:DAYLIGHT
TZNAME:CEST
DTSTART:20190331T020000
TZOFFSETFROM:+0100
TZOFFSETTO:+0200
RDATE:20200329T020000
RDATE:20210328T020000
END:DAYLIGHT
END:VTIMEZONE
BEGIN:VEVENT
UID:72f33787-2afc-49de-bb9b-cb2cae61a9ce
DTSTAMP:20260422T111443Z
CATEGORIES:Ausbildung
CLASS:PUBLIC
DESCRIPTION;ALTREP="CID:<FFFF__=0ABBE548DFE235B58f9e8a93d@coffeebean.com>":
 Dieser Kurs findet nur für amtierende und angehende int. Schiedsrichter ES
 KA und JKA statt.&nbsp\;Prüfungen für C-Lizenz (Theorie und Praxis) können
  am Frühlingsturnier abgelegt werden.
DTSTART:20200321T084500Z
DTEND:20200321T120000Z
GEO:00;0
LOCATION:Muttenz
ORGANIZER;CN=:schiedsrichter@jka-karate.ch
SEQUENCE:1
SUMMARY:Abgesagt - Schiedsrichter Kurs
TRANSP:OPAQUE
URL:https://www.jka-karate.ch/cms/index.php/component/icagenda/9-schiedsric
 hter-kurs
END:VEVENT
END:VCALENDAR
