BEGIN:VCALENDAR
VERSION:2.0
PRODID:-//SKR - Swiss Karatedo Renmei Yudanshakai//NONSGML kigkonsult.se iC
 alcreator 2.30.10//
CALSCALE:GREGORIAN
METHOD:PUBLISH
UID:8e915e3e-999b-42da-acc0-c9b6d60842a5
X-WR-CALNAME:iCagenda
X-WR-CALDESC:Event Management Extension for Joomla!
X-WR-RELCALID:3E26604A-50F4-4449-8B3E-E4F4932D05B5
X-WR-TIMEZONE:Europe/Zurich
BEGIN:VTIMEZONE
TZID:Europe/Zurich
BEGIN:STANDARD
TZNAME:CET
DTSTART:20261025T030000
TZOFFSETFROM:+0200
TZOFFSETTO:+0100
RDATE:20271031T030000
END:STANDARD
BEGIN:DAYLIGHT
TZNAME:CEST
DTSTART:20260329T020000
TZOFFSETFROM:+0100
TZOFFSETTO:+0200
RDATE:20270328T020000
RDATE:20280326T020000
END:DAYLIGHT
END:VTIMEZONE
BEGIN:VEVENT
UID:473ef1eb-672f-45d7-a0fe-4329b54d62df
DTSTAMP:20260420T130204Z
CATEGORIES:Ausbildung
CLASS:PUBLIC
DESCRIPTION;ALTREP="CID:<FFFF__=0ABBE548DFE235B58f9e8a93d@coffeebean.com>":
 Für Dojo-Trainer ab 2. Kyu
DTSTART:20261031T090000Z
DTEND:20261031T160000Z
GEO:00;0
LOCATION:Winterthur
ORGANIZER;CN=:tommaso.mini@jka-karate.ch
SEQUENCE:1
SUMMARY:Trainerausbildung: Modul 3
TRANSP:OPAQUE
URL:https://www.jka-karate.ch/cms/index.php/news-termine/veranstaltungen/19
 9-trainerausbildung-modul-3-2026
END:VEVENT
END:VCALENDAR
