BEGIN:VCALENDAR
VERSION:2.0
PRODID:-//SKR - Swiss Karatedo Renmei Yudanshakai//NONSGML kigkonsult.se iC
 alcreator 2.30.10//
CALSCALE:GREGORIAN
METHOD:PUBLISH
UID:ad0fdedd-8eb4-4c50-8ce1-1cc5bae3ac95
X-WR-CALNAME:iCagenda
X-WR-CALDESC:Event Management Extension for Joomla!
X-WR-RELCALID:3E26604A-50F4-4449-8B3E-E4F4932D05B5
X-WR-TIMEZONE:Europe/Zurich
BEGIN:VTIMEZONE
TZID:Europe/Zurich
BEGIN:STANDARD
TZNAME:CET
DTSTART:20261025T030000
TZOFFSETFROM:+0200
TZOFFSETTO:+0100
RDATE:20271031T030000
END:STANDARD
BEGIN:DAYLIGHT
TZNAME:CEST
DTSTART:20260329T020000
TZOFFSETFROM:+0100
TZOFFSETTO:+0200
RDATE:20270328T020000
RDATE:20280326T020000
END:DAYLIGHT
END:VTIMEZONE
BEGIN:VEVENT
UID:bbf4fa2a-d3ef-4c94-955b-58dad1182159
DTSTAMP:20260422T091856Z
CATEGORIES:Turnier
CLASS:PUBLIC
DESCRIPTION:
DTSTART:20261114T230000Z
DTEND:20261114T230000Z
GEO:00;0
LOCATION:Allschwil
ORGANIZER:
SEQUENCE:1
SUMMARY:Herbstturnier
TRANSP:OPAQUE
URL:https://www.jka-karate.ch/cms/index.php/news-termine/veranstaltungen/20
 0-herbstturnier-2026
END:VEVENT
END:VCALENDAR
